BEGIN:VCALENDAR
VERSION:2.0
PRODID:icalendar-ruby
CALSCALE:GREGORIAN
METHOD:PUBLISH
BEGIN:VEVENT
DTSTAMP:20260423T220209Z
UID:130-2070149@anchoredinjesus.com
DTSTART:20261022T020000Z
DTEND:20261022T033000Z
CLASS:PUBLIC
CREATED:20260423T122019
DESCRIPTION:
LAST-MODIFIED:20260423T122019
LOCATION:Church office
SUMMARY:Wednesday Evening Service
URL;VALUE=URI:https://www.anchoredinjesus.com/events/wednesday-evening-serv
 ice--130/2026-10-21
ATTACH;FILENAME=Wednesday Bible Study.png;FMTTYPE=image/png:https://dq5pwpg
 1q8ru0.cloudfront.net/2022/01/10/13/40/17/5203c46f-fbaa-4b33-9fc6-6b59270d
 844b/Wednesday%20Bible%20Study.png
END:VEVENT
END:VCALENDAR
